BEGIN:VCALENDAR
VERSION:2.0
PRODID:-//Tonawanda Bowling Center - ECPv6.15.17.1//NONSGML v1.0//EN
CALSCALE:GREGORIAN
METHOD:PUBLISH
X-ORIGINAL-URL:https://tonawandabowling.net
X-WR-CALDESC:Events for Tonawanda Bowling Center
REFRESH-INTERVAL;VALUE=DURATION:PT1H
X-Robots-Tag:noindex
X-PUBLISHED-TTL:PT1H
BEGIN:VTIMEZONE
TZID:UTC
BEGIN:STANDARD
TZOFFSETFROM:+0000
TZOFFSETTO:+0000
TZNAME:UTC
DTSTART:20180101T000000
END:STANDARD
END:VTIMEZONE
BEGIN:VEVENT
DTSTART;TZID=UTC:20191208T130000
DTEND;TZID=UTC:20191208T150000
DTSTAMP:20260421T154258
CREATED:20191202T170927Z
LAST-MODIFIED:20191202T171012Z
UID:2715-1575810000-1575817200@tonawandabowling.net
SUMMARY:Bowling with Santa!
DESCRIPTION:$13. Per Person \n(We reserve the right to schedule up to 4 per lane) \nIncludes: \n3 hours of Unlimited Bowling \nShoe Rental \nPizza & Pop \nSpecial Treat from Santa! \nPhoto with SANTA! \n(Santa will stay until all photos are taken) \nFUN – FUN – FUN! \nCall 694-4120 or email mary@tonawandabowling.net to reserve a spot today!
URL:https://tonawandabowling.net/event/bowling-with-santa-3/
LOCATION:574 Young Street\, Tonawanda\, NY\, United States
GEO:43.0071866;-78.8627698
X-APPLE-STRUCTURED-LOCATION;VALUE=URI;X-ADDRESS=574 Young Street Tonawanda NY United States;X-APPLE-RADIUS=500;X-TITLE=574 Young Street:geo:-78.8627698,43.0071866
END:VEVENT
BEGIN:VEVENT
DTSTART;TZID=UTC:20191231T110000
DTEND;TZID=UTC:20191231T140000
DTSTAMP:20260421T154258
CREATED:20191213T204440Z
LAST-MODIFIED:20191213T204440Z
UID:2721-1577790000-1577800800@tonawandabowling.net
SUMMARY:New Year's Eve Afternoon Party!
DESCRIPTION:$13.00 each \nIncludes: \nPizza & Soda – Prize for every Child \nMidnight Count Down & Toast at Noon – \nHats and Noise Makers \nUnlimited Moonlight Bowling – 9 pin No-Tap
URL:https://tonawandabowling.net/event/new-years-eve-afternoon-party/
LOCATION:574 Young Street\, Tonawanda\, NY\, United States
GEO:43.0071866;-78.8627698
X-APPLE-STRUCTURED-LOCATION;VALUE=URI;X-ADDRESS=574 Young Street Tonawanda NY United States;X-APPLE-RADIUS=500;X-TITLE=574 Young Street:geo:-78.8627698,43.0071866
END:VEVENT
BEGIN:VEVENT
DTSTART;TZID=UTC:20191231T150000
DTEND;TZID=UTC:20191231T180000
DTSTAMP:20260421T154258
CREATED:20191213T204612Z
LAST-MODIFIED:20191213T204612Z
UID:2725-1577804400-1577815200@tonawandabowling.net
SUMMARY:New Year's Eve Mid-Afternoon Party
DESCRIPTION:$75.00 per lane – up to six bowlers \nIncludes: \n1 Large Pizza & 1 pitcher of pop per lane \nUnlimited moonlight bowling\, 9 pin No-Tap \nMusic – Dancing – Fun \nPrize give-a-ways & party Favors
URL:https://tonawandabowling.net/event/new-years-eve-mid-afternoon-party/
LOCATION:574 Young Street\, Tonawanda\, NY\, United States
GEO:43.0071866;-78.8627698
X-APPLE-STRUCTURED-LOCATION;VALUE=URI;X-ADDRESS=574 Young Street Tonawanda NY United States;X-APPLE-RADIUS=500;X-TITLE=574 Young Street:geo:-78.8627698,43.0071866
END:VEVENT
BEGIN:VEVENT
DTSTART;TZID=UTC:20191231T230000
DTEND;TZID=UTC:20191231T230000
DTSTAMP:20260421T154258
CREATED:20191213T205027Z
LAST-MODIFIED:20191213T205027Z
UID:2733-1577833200-1577833200@tonawandabowling.net
SUMMARY:New Year's Eve Midnight Party!
DESCRIPTION:$80.00 per lane for up to 6 people \nIncludes: \n1 Large Pizza & 1 pitcher of pop or beer per lane \nUnlimited moonlight bowling \nChampagne toast at Midnight! \nPrize give-a-ways & party Favors
URL:https://tonawandabowling.net/event/new-years-eve-midnight-party/
LOCATION:574 Young Street\, Tonawanda\, NY\, United States
GEO:43.0071866;-78.8627698
X-APPLE-STRUCTURED-LOCATION;VALUE=URI;X-ADDRESS=574 Young Street Tonawanda NY United States;X-APPLE-RADIUS=500;X-TITLE=574 Young Street:geo:-78.8627698,43.0071866
END:VEVENT
BEGIN:VEVENT
DTSTART;TZID=UTC:20241231T190000
DTEND;TZID=UTC:20241231T220000
DTSTAMP:20260421T154258
CREATED:20191213T204900Z
LAST-MODIFIED:20241228T073927Z
UID:2729-1735671600-1735682400@tonawandabowling.net
SUMMARY:New Year's Eve Evening Party!
DESCRIPTION:Includes: \nPizza & Pop \nUnlimited moonlight bowling \nMusic – Dancing – Party Favors – Fun \n 
URL:https://tonawandabowling.net/event/new-years-eve-evening-party/
LOCATION:NY
END:VEVENT
END:VCALENDAR